
	BEGIN:VCALENDAR
VERSION:2.0
PRODID:-//Cherry Hill Concerts - ECPv6.15.18//NONSGML v1.0//EN
CALSCALE:GREGORIAN
METHOD:PUBLISH
X-ORIGINAL-URL:https://www.cherryhillconcerts.com
X-WR-CALDESC:Events for Cherry Hill Concerts
REFRESH-INTERVAL;VALUE=DURATION:PT1H
X-Robots-Tag:noindex
X-PUBLISHED-TTL:PT1H
BEGIN:VTIMEZONE
TZID:America/New_York
BEGIN:DAYLIGHT
TZOFFSETFROM:-0500
TZOFFSETTO:-0400
TZNAME:EDT
DTSTART:20120311T070000
END:DAYLIGHT
BEGIN:STANDARD
TZOFFSETFROM:-0400
TZOFFSETTO:-0500
TZNAME:EST
DTSTART:20121104T060000
END:STANDARD
BEGIN:DAYLIGHT
TZOFFSETFROM:-0500
TZOFFSETTO:-0400
TZNAME:EDT
DTSTART:20130310T070000
END:DAYLIGHT
BEGIN:STANDARD
TZOFFSETFROM:-0400
TZOFFSETTO:-0500
TZNAME:EST
DTSTART:20131103T060000
END:STANDARD
BEGIN:DAYLIGHT
TZOFFSETFROM:-0500
TZOFFSETTO:-0400
TZNAME:EDT
DTSTART:20140309T070000
END:DAYLIGHT
BEGIN:STANDARD
TZOFFSETFROM:-0400
TZOFFSETTO:-0500
TZNAME:EST
DTSTART:20141102T060000
END:STANDARD
BEGIN:DAYLIGHT
TZOFFSETFROM:-0500
TZOFFSETTO:-0400
TZNAME:EDT
DTSTART:20150308T070000
END:DAYLIGHT
BEGIN:STANDARD
TZOFFSETFROM:-0400
TZOFFSETTO:-0500
TZNAME:EST
DTSTART:20151101T060000
END:STANDARD
BEGIN:DAYLIGHT
TZOFFSETFROM:-0500
TZOFFSETTO:-0400
TZNAME:EDT
DTSTART:20160313T070000
END:DAYLIGHT
BEGIN:STANDARD
TZOFFSETFROM:-0400
TZOFFSETTO:-0500
TZNAME:EST
DTSTART:20161106T060000
END:STANDARD
BEGIN:DAYLIGHT
TZOFFSETFROM:-0500
TZOFFSETTO:-0400
TZNAME:EDT
DTSTART:20170312T070000
END:DAYLIGHT
BEGIN:STANDARD
TZOFFSETFROM:-0400
TZOFFSETTO:-0500
TZNAME:EST
DTSTART:20171105T060000
END:STANDARD
BEGIN:DAYLIGHT
TZOFFSETFROM:-0500
TZOFFSETTO:-0400
TZNAME:EDT
DTSTART:20180311T070000
END:DAYLIGHT
BEGIN:STANDARD
TZOFFSETFROM:-0400
TZOFFSETTO:-0500
TZNAME:EST
DTSTART:20181104T060000
END:STANDARD
BEGIN:DAYLIGHT
TZOFFSETFROM:-0500
TZOFFSETTO:-0400
TZNAME:EDT
DTSTART:20190310T070000
END:DAYLIGHT
BEGIN:STANDARD
TZOFFSETFROM:-0400
TZOFFSETTO:-0500
TZNAME:EST
DTSTART:20191103T060000
END:STANDARD
BEGIN:DAYLIGHT
TZOFFSETFROM:-0500
TZOFFSETTO:-0400
TZNAME:EDT
DTSTART:20200308T070000
END:DAYLIGHT
BEGIN:STANDARD
TZOFFSETFROM:-0400
TZOFFSETTO:-0500
TZNAME:EST
DTSTART:20201101T060000
END:STANDARD
BEGIN:DAYLIGHT
TZOFFSETFROM:-0500
TZOFFSETTO:-0400
TZNAME:EDT
DTSTART:20210314T070000
END:DAYLIGHT
BEGIN:STANDARD
TZOFFSETFROM:-0400
TZOFFSETTO:-0500
TZNAME:EST
DTSTART:20211107T060000
END:STANDARD
BEGIN:DAYLIGHT
TZOFFSETFROM:-0500
TZOFFSETTO:-0400
TZNAME:EDT
DTSTART:20220313T070000
END:DAYLIGHT
BEGIN:STANDARD
TZOFFSETFROM:-0400
TZOFFSETTO:-0500
TZNAME:EST
DTSTART:20221106T060000
END:STANDARD
BEGIN:DAYLIGHT
TZOFFSETFROM:-0500
TZOFFSETTO:-0400
TZNAME:EDT
DTSTART:20230312T070000
END:DAYLIGHT
BEGIN:STANDARD
TZOFFSETFROM:-0400
TZOFFSETTO:-0500
TZNAME:EST
DTSTART:20231105T060000
END:STANDARD
BEGIN:DAYLIGHT
TZOFFSETFROM:-0500
TZOFFSETTO:-0400
TZNAME:EDT
DTSTART:20240310T070000
END:DAYLIGHT
BEGIN:STANDARD
TZOFFSETFROM:-0400
TZOFFSETTO:-0500
TZNAME:EST
DTSTART:20241103T060000
END:STANDARD
BEGIN:DAYLIGHT
TZOFFSETFROM:-0500
TZOFFSETTO:-0400
TZNAME:EDT
DTSTART:20250309T070000
END:DAYLIGHT
BEGIN:STANDARD
TZOFFSETFROM:-0400
TZOFFSETTO:-0500
TZNAME:EST
DTSTART:20251102T060000
END:STANDARD
BEGIN:DAYLIGHT
TZOFFSETFROM:-0500
TZOFFSETTO:-0400
TZNAME:EDT
DTSTART:20260308T070000
END:DAYLIGHT
BEGIN:STANDARD
TZOFFSETFROM:-0400
TZOFFSETTO:-0500
TZNAME:EST
DTSTART:20261101T060000
END:STANDARD
END:VTIMEZONE
BEGIN:VEVENT
DTSTART;TZID=America/New_York:20250518T150000
DTEND;TZID=America/New_York:20250518T170000
DTSTAMP:20260423T091805
CREATED:20250502T153613Z
LAST-MODIFIED:20250502T153613Z
UID:1259-1747580400-1747587600@www.cherryhillconcerts.com
SUMMARY:Vincent Van Gelder\, pianist
DESCRIPTION:
URL:https://www.cherryhillconcerts.com/event/vincent-van-gelder-pianist-3/
CATEGORIES:Commemorating Alice Vaiden Williams
END:VEVENT
BEGIN:VEVENT
DTSTART;TZID=America/New_York:20240519T150000
DTEND;TZID=America/New_York:20240519T170000
DTSTAMP:20260423T091805
CREATED:20240215T221344Z
LAST-MODIFIED:20240215T221344Z
UID:1183-1716130800-1716138000@www.cherryhillconcerts.com
SUMMARY:Joel Fan\, piano
DESCRIPTION:
URL:https://www.cherryhillconcerts.com/event/joel-fan-piano/
CATEGORIES:Commemorating Alice Vaiden Williams
END:VEVENT
BEGIN:VEVENT
DTSTART;TZID=America/New_York:20230625T150000
DTEND;TZID=America/New_York:20230625T170000
DTSTAMP:20260423T091805
CREATED:20230812T170745Z
LAST-MODIFIED:20230812T170745Z
UID:1117-1687705200-1687712400@www.cherryhillconcerts.com
SUMMARY:Clara Yang\, pianist
DESCRIPTION:
URL:https://www.cherryhillconcerts.com/event/clara-yang-pianist-2/
CATEGORIES:Commemorating Alice Vaiden Williams
END:VEVENT
BEGIN:VEVENT
DTSTART;TZID=America/New_York:20220529T150000
DTEND;TZID=America/New_York:20220529T170000
DTSTAMP:20260423T091805
CREATED:20230812T165155Z
LAST-MODIFIED:20230812T165155Z
UID:1107-1653836400-1653843600@www.cherryhillconcerts.com
SUMMARY:Solomon Eichner - pianist
DESCRIPTION:
URL:https://www.cherryhillconcerts.com/event/solomon-eichner-pianist-3/
CATEGORIES:Commemorating Alice Vaiden Williams
END:VEVENT
BEGIN:VEVENT
DTSTART;TZID=America/New_York:20200524T150000
DTEND;TZID=America/New_York:20200524T170000
DTSTAMP:20260423T091805
CREATED:20230812T162137Z
LAST-MODIFIED:20230812T162137Z
UID:1094-1590332400-1590339600@www.cherryhillconcerts.com
SUMMARY:Clara Yang\, pianist
DESCRIPTION:Due to the Corona Virus\, this concert has been canceled.
URL:https://www.cherryhillconcerts.com/event/clara-yang-pianist/
CATEGORIES:Commemorating Alice Vaiden Williams
END:VEVENT
BEGIN:VEVENT
DTSTART;TZID=America/New_York:20190519T150000
DTEND;TZID=America/New_York:20190519T170000
DTSTAMP:20260423T091805
CREATED:20230812T155858Z
LAST-MODIFIED:20230812T155858Z
UID:1084-1558278000-1558285200@www.cherryhillconcerts.com
SUMMARY:Marc Callahan\, Clara Yang
DESCRIPTION:Baritone and piano
URL:https://www.cherryhillconcerts.com/event/marc-callahan-clara-yang/
CATEGORIES:Commemorating Alice Vaiden Williams
END:VEVENT
BEGIN:VEVENT
DTSTART;TZID=America/New_York:20180520T150000
DTEND;TZID=America/New_York:20180520T170000
DTSTAMP:20260423T091805
CREATED:20230812T154352Z
LAST-MODIFIED:20230812T154352Z
UID:1076-1526828400-1526835600@www.cherryhillconcerts.com
SUMMARY:ANDREW WILLIS AND FRIENDS
DESCRIPTION:UNC-G Professor of Piano and some of his top graduate students will perform.
URL:https://www.cherryhillconcerts.com/event/andrew-willis-and-friends/
CATEGORIES:Commemorating Alice Vaiden Williams
END:VEVENT
BEGIN:VEVENT
DTSTART;TZID=America/New_York:20170521T150000
DTEND;TZID=America/New_York:20170521T170000
DTSTAMP:20260423T091805
CREATED:20230807T161843Z
LAST-MODIFIED:20230807T161843Z
UID:1066-1495378800-1495386000@www.cherryhillconcerts.com
SUMMARY:Meredith Faculty
DESCRIPTION:
URL:https://www.cherryhillconcerts.com/event/meredith-faculty-2/
CATEGORIES:Commemorating Alice Vaiden Williams
END:VEVENT
BEGIN:VEVENT
DTSTART;TZID=America/New_York:20170521T150000
DTEND;TZID=America/New_York:20170521T170000
DTSTAMP:20260423T091805
CREATED:20230807T161843Z
LAST-MODIFIED:20230807T161843Z
UID:1006-1495378800-1495386000@www.cherryhillconcerts.com
SUMMARY:Meredith Faculty
DESCRIPTION:
URL:https://www.cherryhillconcerts.com/event/meredith-faculty/
CATEGORIES:Commemorating Alice Vaiden Williams
END:VEVENT
BEGIN:VEVENT
DTSTART;TZID=America/New_York:20160522T150000
DTEND;TZID=America/New_York:20160522T170000
DTSTAMP:20260423T091805
CREATED:20230724T204024Z
LAST-MODIFIED:20230724T204024Z
UID:1056-1463929200-1463936400@www.cherryhillconcerts.com
SUMMARY:Andrew Willis and Friends\, piano
DESCRIPTION:Dr. Willis\, Professor of Music at UNCG\, is well-known for his work with various keyboard instruments and his commitment to the study\, performance and teaching of the widest possible range of repertoire.  This year he and his students will delight their audience with a performance of works by a number of musical geniuses as they play compositions of Brahms\, Debussey\, Mendelssohn\, Chopin\, Rachmaninoff\, Faure\, von Weber\, and Moscheles. In addition to performing individually on the magnificent Steinway concert grand\, some of the pianists will perform on two pianos. Dr. Willis relishes the opportunity to work with these incredibly talented students from all over the United States. They include Walton Lott and Colin McDearman from Mississippi; Karl Metzger from Ohio; Stephanie Schmidt from Wisconsin; Robin Morace from New York; and Daniel Seyfried from Idaho.
URL:https://www.cherryhillconcerts.com/event/andrew-willis-and-friends-piano-2/
CATEGORIES:Commemorating Alice Vaiden Williams
END:VEVENT
BEGIN:VEVENT
DTSTART;TZID=America/New_York:20160522T150000
DTEND;TZID=America/New_York:20160522T170000
DTSTAMP:20260423T091805
CREATED:20230724T204024Z
LAST-MODIFIED:20230724T204024Z
UID:985-1463929200-1463936400@www.cherryhillconcerts.com
SUMMARY:Andrew Willis and Friends\, piano
DESCRIPTION:Dr. Willis\, Professor of Music at UNCG\, is well-known for his work with various keyboard instruments and his commitment to the study\, performance and teaching of the widest possible range of repertoire.  This year he and his students will delight their audience with a performance of works by a number of musical geniuses as they play compositions of Brahms\, Debussey\, Mendelssohn\, Chopin\, Rachmaninoff\, Faure\, von Weber\, and Moscheles. In addition to performing individually on the magnificent Steinway concert grand\, some of the pianists will perform on two pianos. Dr. Willis relishes the opportunity to work with these incredibly talented students from all over the United States. They include Walton Lott and Colin McDearman from Mississippi; Karl Metzger from Ohio; Stephanie Schmidt from Wisconsin; Robin Morace from New York; and Daniel Seyfried from Idaho.
URL:https://www.cherryhillconcerts.com/event/andrew-willis-and-friends-piano/
CATEGORIES:Commemorating Alice Vaiden Williams
END:VEVENT
BEGIN:VEVENT
DTSTART;TZID=America/New_York:20150517T150000
DTEND;TZID=America/New_York:20150517T170000
DTSTAMP:20260423T091805
CREATED:20230724T202400Z
LAST-MODIFIED:20230724T202400Z
UID:1046-1431874800-1431882000@www.cherryhillconcerts.com
SUMMARY:Meredith College Music Faculty
DESCRIPTION:
URL:https://www.cherryhillconcerts.com/event/meredith-college-music-faculty-2/
CATEGORIES:Commemorating Alice Vaiden Williams
END:VEVENT
BEGIN:VEVENT
DTSTART;TZID=America/New_York:20150517T150000
DTEND;TZID=America/New_York:20150517T170000
DTSTAMP:20260423T091805
CREATED:20230724T202400Z
LAST-MODIFIED:20230724T202400Z
UID:965-1431874800-1431882000@www.cherryhillconcerts.com
SUMMARY:Meredith College Music Faculty
DESCRIPTION:
URL:https://www.cherryhillconcerts.com/event/meredith-college-music-faculty/
CATEGORIES:Commemorating Alice Vaiden Williams
END:VEVENT
BEGIN:VEVENT
DTSTART;TZID=America/New_York:20140525T150000
DTEND;TZID=America/New_York:20140525T170000
DTSTAMP:20260423T091805
CREATED:20230724T195029Z
LAST-MODIFIED:20230724T195029Z
UID:1038-1401030000-1401037200@www.cherryhillconcerts.com
SUMMARY:Andrew Wilis & Friends
DESCRIPTION:Focus on Piano Literature “Sons of J. S. Bach” \n  \nFor more information\, click here.
URL:https://www.cherryhillconcerts.com/event/andrew-wilis-friends-2/
CATEGORIES:Commemorating Alice Vaiden Williams
END:VEVENT
BEGIN:VEVENT
DTSTART;TZID=America/New_York:20140525T150000
DTEND;TZID=America/New_York:20140525T170000
DTSTAMP:20260423T091805
CREATED:20230724T195029Z
LAST-MODIFIED:20230724T195029Z
UID:953-1401030000-1401037200@www.cherryhillconcerts.com
SUMMARY:Andrew Wilis & Friends
DESCRIPTION:Focus on Piano Literature “Sons of J. S. Bach” \n  \nFor more information\, click here.
URL:https://www.cherryhillconcerts.com/event/andrew-wilis-friends/
CATEGORIES:Commemorating Alice Vaiden Williams
END:VEVENT
BEGIN:VEVENT
DTSTART;TZID=America/New_York:20130519T150000
DTEND;TZID=America/New_York:20130519T170000
DTSTAMP:20260423T091805
CREATED:20230722T163611Z
LAST-MODIFIED:20230722T163611Z
UID:1028-1368975600-1368982800@www.cherryhillconcerts.com
SUMMARY:Jimmy Gilmore\, clarinet  Elizabeth Beilman\, cello Kent Lyman\, piano
DESCRIPTION:Music of Bach\, Beethoven\, Von Weber \nFor more information\, click here.
URL:https://www.cherryhillconcerts.com/event/jimmy-gilmore-clarinet-elizabeth-beilman-cello-kent-lyman-piano-2/
CATEGORIES:Commemorating Alice Vaiden Williams
END:VEVENT
BEGIN:VEVENT
DTSTART;TZID=America/New_York:20130519T150000
DTEND;TZID=America/New_York:20130519T170000
DTSTAMP:20260423T091805
CREATED:20230722T163611Z
LAST-MODIFIED:20230722T163611Z
UID:942-1368975600-1368982800@www.cherryhillconcerts.com
SUMMARY:Jimmy Gilmore\, clarinet  Elizabeth Beilman\, cello Kent Lyman\, piano
DESCRIPTION:Music of Bach\, Beethoven\, Von Weber \nFor more information\, click here.
URL:https://www.cherryhillconcerts.com/event/jimmy-gilmore-clarinet-elizabeth-beilman-cello-kent-lyman-piano/
CATEGORIES:Commemorating Alice Vaiden Williams
END:VEVENT
END:VCALENDAR